BEGIN:VCALENDAR
VERSION:2.0
CALSCALE:GREGORIAN
BEGIN:VEVENT
URL:https://www.learndesk.us/class/5205730887991296/lesson/12ab9bf443721f163bc11fa827ed3493?ref=outlook-calendar
SUMMARY:Local Settings File
DTSTART;TZID=America/Los_Angeles:20260422T190000
DTEND;TZID=America/Los_Angeles:20260422T200000
LOCATION:https://www.learndesk.us/class/5205730887991296/lesson/12ab9bf443721f163bc11fa827ed3493?ref=outlook-calendar
DESCRIPTION: Django Deployment: Local settings file

https://www.learndesk.us/class/5205730887991296/lesson/12ab9bf443721f163bc11fa827ed3493?ref=outlook-calendar
STATUS:CONFIRMED
SEQUENCE:3
BEGIN:VALARM
TRIGGER:-PT10M
DESCRIPTION:Class Reminder
ACTION:DISPLAY
END:VALARM
END:VEVENT
END:VCALENDAR