BEGIN:VCALENDAR
VERSION:2.0
CALSCALE:GREGORIAN
BEGIN:VEVENT
URL:https://www.learndesk.us/class/5205730887991296/lesson/03be56ca2dbaa0d5c6b34f507a46a94f?ref=outlook-calendar
SUMMARY:Modules
DTSTART;TZID=America/Los_Angeles:20260422T190000
DTEND;TZID=America/Los_Angeles:20260422T200000
LOCATION:https://www.learndesk.us/class/5205730887991296/lesson/03be56ca2dbaa0d5c6b34f507a46a94f?ref=outlook-calendar
DESCRIPTION: Python Language Fundamentals: Modules

https://www.learndesk.us/class/5205730887991296/lesson/03be56ca2dbaa0d5c6b34f507a46a94f?ref=outlook-calendar
STATUS:CONFIRMED
SEQUENCE:3
BEGIN:VALARM
TRIGGER:-PT10M
DESCRIPTION:Class Reminder
ACTION:DISPLAY
END:VALARM
END:VEVENT
END:VCALENDAR