BEGIN:VCALENDAR
VERSION:2.0
CALSCALE:GREGORIAN
BEGIN:VEVENT
URL:https://www.learndesk.us/class/5205730887991296/python-django-dev-to-deployment?ref=outlook-calendar
SUMMARY:Python Django Dev To Deployment
DTSTART;TZID=America/Los_Angeles:20260422T190000
DTEND;TZID=America/Los_Angeles:20260422T200000
LOCATION:https://www.learndesk.us/class/5205730887991296/python-django-dev-to-deployment?ref=outlook-calendar
DESCRIPTION: 
This is a very practical course where we take a list of requirements from a fictional company to build a real estate application using Django. We will take a basic Html/CSS Bootstrap 4 theme and turn it into a real working application with an admin area to manage resources including property listings, realtors, and contact inquiries. We also have a section on learning basic Python syntax.
What will you learn in this course?

Basic Python (lists, dictionaries, functions, conditionals, etc)
Setup Virtual Environments
Install & configure Django
Create Django "apps"
Postgres Setup (local and remote)
Schema planning, models & migration
Admin Customization
Bootstrap integration
Full search functionality
User Authentication
Deploy to Digital Ocean with Gunicorn and Nginx

All the code and supporting files for this course are available at: https://github.com/PacktPublishing/Python-Django-Dev-To-Deployment
Who should take the course?
This course is for beginner Python developers that want...

https://www.learndesk.us/class/5205730887991296/python-django-dev-to-deployment?ref=outlook-calendar
STATUS:CONFIRMED
SEQUENCE:3
BEGIN:VALARM
TRIGGER:-PT10M
DESCRIPTION:Class Reminder
ACTION:DISPLAY
END:VALARM
END:VEVENT
END:VCALENDAR