BEGIN:VCALENDAR
VERSION:2.0
CALSCALE:GREGORIAN
BEGIN:VEVENT
URL:https://www.learndesk.us/class/5181166799814656/lesson/9a4f46951c9c1b5b5fa725f5b3888264?ref=outlook-calendar
SUMMARY:Sharing Permissions, Preview Mode and Other Settings
DTSTART;TZID=America/Los_Angeles:20260421T190000
DTEND;TZID=America/Los_Angeles:20260421T200000
LOCATION:https://www.learndesk.us/class/5181166799814656/lesson/9a4f46951c9c1b5b5fa725f5b3888264?ref=outlook-calendar
DESCRIPTION: https://www.learndesk.us/class/5181166799814656/lesson/9a4f46951c9c1b5b5fa725f5b3888264?ref=outlook-calendar
STATUS:CONFIRMED
SEQUENCE:3
BEGIN:VALARM
TRIGGER:-PT10M
DESCRIPTION:Class Reminder
ACTION:DISPLAY
END:VALARM
END:VEVENT
END:VCALENDAR