BEGIN:VCALENDAR
VERSION:2.0
CALSCALE:GREGORIAN
BEGIN:VEVENT
URL:https://www.learndesk.us/class/5181166799814656/lesson/654552a8e36650c47a52a68c136a9c3c?ref=outlook-calendar
SUMMARY:Adding Elements
DTSTART;TZID=America/Los_Angeles:20260421T190000
DTEND;TZID=America/Los_Angeles:20260421T200000
LOCATION:https://www.learndesk.us/class/5181166799814656/lesson/654552a8e36650c47a52a68c136a9c3c?ref=outlook-calendar
DESCRIPTION: https://www.learndesk.us/class/5181166799814656/lesson/654552a8e36650c47a52a68c136a9c3c?ref=outlook-calendar
STATUS:CONFIRMED
SEQUENCE:3
BEGIN:VALARM
TRIGGER:-PT10M
DESCRIPTION:Class Reminder
ACTION:DISPLAY
END:VALARM
END:VEVENT
END:VCALENDAR