BEGIN:VCALENDAR
VERSION:2.0
CALSCALE:GREGORIAN
BEGIN:VEVENT
URL:https://www.learndesk.us/class/5181166799814656/lesson/57e955b9c7a3f030021d9336a55e4a51?ref=outlook-calendar
SUMMARY:Three Main Sections in Google Sites
DTSTART;TZID=America/Los_Angeles:20260421T190000
DTEND;TZID=America/Los_Angeles:20260421T200000
LOCATION:https://www.learndesk.us/class/5181166799814656/lesson/57e955b9c7a3f030021d9336a55e4a51?ref=outlook-calendar
DESCRIPTION: https://www.learndesk.us/class/5181166799814656/lesson/57e955b9c7a3f030021d9336a55e4a51?ref=outlook-calendar
STATUS:CONFIRMED
SEQUENCE:3
BEGIN:VALARM
TRIGGER:-PT10M
DESCRIPTION:Class Reminder
ACTION:DISPLAY
END:VALARM
END:VEVENT
END:VCALENDAR