BEGIN:VCALENDAR
VERSION:2.0
CALSCALE:GREGORIAN
BEGIN:VEVENT
URL:https://www.learndesk.us/class/5181166799814656/lesson/43713f151affd0add623a1ac5d16c9e9?ref=outlook-calendar
SUMMARY:Publish Your Site
DTSTART;TZID=America/Los_Angeles:20260421T190000
DTEND;TZID=America/Los_Angeles:20260421T200000
LOCATION:https://www.learndesk.us/class/5181166799814656/lesson/43713f151affd0add623a1ac5d16c9e9?ref=outlook-calendar
DESCRIPTION: https://www.learndesk.us/class/5181166799814656/lesson/43713f151affd0add623a1ac5d16c9e9?ref=outlook-calendar
STATUS:CONFIRMED
SEQUENCE:3
BEGIN:VALARM
TRIGGER:-PT10M
DESCRIPTION:Class Reminder
ACTION:DISPLAY
END:VALARM
END:VEVENT
END:VCALENDAR