BEGIN:VCALENDAR
VERSION:2.0
CALSCALE:GREGORIAN
BEGIN:VEVENT
URL:https://www.learndesk.us/class/5181166799814656/construct-a-website-with-google-sites?ref=outlook-calendar
SUMMARY:Construct a Website with Google Sites
DTSTART;TZID=America/Los_Angeles:20260422T190000
DTEND;TZID=America/Los_Angeles:20260422T200000
LOCATION:https://www.learndesk.us/class/5181166799814656/construct-a-website-with-google-sites?ref=outlook-calendar
DESCRIPTION: This course will explain all the steps necessary to create, build, and publish a professional-looking website with Google Sites. You can use Sites to create a teacher webpage or have your students create their own webpages about topics they are learning about in class. Having a teacher website is a great way to communicate with staff, students, parents, and the community. When students use Google Sites, they are learning 21st-century skills and communicating globally all over the world.

https://www.learndesk.us/class/5181166799814656/construct-a-website-with-google-sites?ref=outlook-calendar
STATUS:CONFIRMED
SEQUENCE:3
BEGIN:VALARM
TRIGGER:-PT10M
DESCRIPTION:Class Reminder
ACTION:DISPLAY
END:VALARM
END:VEVENT
END:VCALENDAR