BEGIN:VCALENDAR
VERSION:2.0
CALSCALE:GREGORIAN
BEGIN:VEVENT
URL:https://www.learndesk.us/class/5161348474339328/lesson/f2e2c78e7fb301819ea0eadce4ab3c4b?ref=outlook-calendar
SUMMARY:NetApp ONTAP Simulator C1N2 Install
DTSTART;TZID=America/Los_Angeles:20260420T190000
DTEND;TZID=America/Los_Angeles:20260420T200000
LOCATION:https://www.learndesk.us/class/5161348474339328/lesson/f2e2c78e7fb301819ea0eadce4ab3c4b?ref=outlook-calendar
DESCRIPTION: https://www.learndesk.us/class/5161348474339328/lesson/f2e2c78e7fb301819ea0eadce4ab3c4b?ref=outlook-calendar
STATUS:CONFIRMED
SEQUENCE:3
BEGIN:VALARM
TRIGGER:-PT10M
DESCRIPTION:Class Reminder
ACTION:DISPLAY
END:VALARM
END:VEVENT
END:VCALENDAR