BEGIN:VCALENDAR
VERSION:2.0
CALSCALE:GREGORIAN
BEGIN:VEVENT
URL:https://www.learndesk.us/class/5161348474339328/lesson/9741536852f25b3446739be0aa7e78db?ref=outlook-calendar
SUMMARY:Thank You
DTSTART;TZID=America/Los_Angeles:20260420T190000
DTEND;TZID=America/Los_Angeles:20260420T200000
LOCATION:https://www.learndesk.us/class/5161348474339328/lesson/9741536852f25b3446739be0aa7e78db?ref=outlook-calendar
DESCRIPTION: https://www.learndesk.us/class/5161348474339328/lesson/9741536852f25b3446739be0aa7e78db?ref=outlook-calendar
STATUS:CONFIRMED
SEQUENCE:3
BEGIN:VALARM
TRIGGER:-PT10M
DESCRIPTION:Class Reminder
ACTION:DISPLAY
END:VALARM
END:VEVENT
END:VCALENDAR