BEGIN:VCALENDAR
VERSION:2.0
CALSCALE:GREGORIAN
BEGIN:VEVENT
URL:https://www.learndesk.us/class/5161348474339328/lesson/80c4b5f3c3c67fa68779822d1afaefd9?ref=outlook-calendar
SUMMARY:ESXi1 and VCSA Install
DTSTART;TZID=America/Los_Angeles:20260422T190000
DTEND;TZID=America/Los_Angeles:20260422T200000
LOCATION:https://www.learndesk.us/class/5161348474339328/lesson/80c4b5f3c3c67fa68779822d1afaefd9?ref=outlook-calendar
DESCRIPTION: https://www.learndesk.us/class/5161348474339328/lesson/80c4b5f3c3c67fa68779822d1afaefd9?ref=outlook-calendar
STATUS:CONFIRMED
SEQUENCE:3
BEGIN:VALARM
TRIGGER:-PT10M
DESCRIPTION:Class Reminder
ACTION:DISPLAY
END:VALARM
END:VEVENT
END:VCALENDAR