BEGIN:VCALENDAR
VERSION:2.0
CALSCALE:GREGORIAN
BEGIN:VEVENT
URL:https://www.learndesk.us/class/5161348474339328/netapp-ontap-9-lab-for-free?ref=outlook-calendar
SUMMARY:NetApp ONTAP 9 Lab for Free
DTSTART;TZID=America/Los_Angeles:20260420T190000
DTEND;TZID=America/Los_Angeles:20260420T200000
LOCATION:https://www.learndesk.us/class/5161348474339328/netapp-ontap-9-lab-for-free?ref=outlook-calendar
DESCRIPTION: 
This course walks you through how to build a fully ready and complete NetApp simulator lab from scratch, using NetApp’s latest operating system ONTAP 9.
The lab features two NetApp simulator clusters with Windows and Linux clients in separate IP subnets to make it as close to a real-world environment as possible... and best of all you can build and run the lab completely for free, all you need is a PC to run it on.
We cover step by step where to find all the software for free, how to build the NetApp simulators, the Windows and Linux clients, the VMware setup, and how to configure the networking.
Almost all NetApp features can be practiced and tested using the lab. You can use it as a study tool or for testing features before deploying them in your production environment.
The lab build outlined in the book is the same one I use for the hands-on demonstrations in my NetApp training videos. You can use the instructions in this course to build your own lab and follow along with me.
I...

https://www.learndesk.us/class/5161348474339328/netapp-ontap-9-lab-for-free?ref=outlook-calendar
STATUS:CONFIRMED
SEQUENCE:3
BEGIN:VALARM
TRIGGER:-PT10M
DESCRIPTION:Class Reminder
ACTION:DISPLAY
END:VALARM
END:VEVENT
END:VCALENDAR