BEGIN:VCALENDAR
VERSION:2.0
CALSCALE:GREGORIAN
BEGIN:VEVENT
URL:https://www.learndesk.us/class/5121507820830720/lesson/fb66ec8b394a5c97b8a8838aee884df4?ref=outlook-calendar
SUMMARY:Understanding NAS Concepts
DTSTART;TZID=America/Los_Angeles:20260420T190000
DTEND;TZID=America/Los_Angeles:20260420T200000
LOCATION:https://www.learndesk.us/class/5121507820830720/lesson/fb66ec8b394a5c97b8a8838aee884df4?ref=outlook-calendar
DESCRIPTION: https://www.learndesk.us/class/5121507820830720/lesson/fb66ec8b394a5c97b8a8838aee884df4?ref=outlook-calendar
STATUS:CONFIRMED
SEQUENCE:3
BEGIN:VALARM
TRIGGER:-PT10M
DESCRIPTION:Class Reminder
ACTION:DISPLAY
END:VALARM
END:VEVENT
END:VCALENDAR