BEGIN:VCALENDAR
VERSION:2.0
CALSCALE:GREGORIAN
BEGIN:VEVENT
URL:https://www.learndesk.us/class/5115173721341952/lesson/f0c4e206e87621e361f9153188bc0bd9?ref=outlook-calendar
SUMMARY:Transcript of Lesson 1: How to Write a Copywriting Brief
DTSTART;TZID=America/Los_Angeles:20260422T190000
DTEND;TZID=America/Los_Angeles:20260422T200000
LOCATION:https://www.learndesk.us/class/5115173721341952/lesson/f0c4e206e87621e361f9153188bc0bd9?ref=outlook-calendar
DESCRIPTION: https://www.learndesk.us/class/5115173721341952/lesson/f0c4e206e87621e361f9153188bc0bd9?ref=outlook-calendar
STATUS:CONFIRMED
SEQUENCE:3
BEGIN:VALARM
TRIGGER:-PT10M
DESCRIPTION:Class Reminder
ACTION:DISPLAY
END:VALARM
END:VEVENT
END:VCALENDAR