BEGIN:VCALENDAR
VERSION:2.0
CALSCALE:GREGORIAN
BEGIN:VEVENT
URL:https://www.learndesk.us/class/5115173721341952/lesson/938263a9afc7dd98ccde46196219a5d5?ref=outlook-calendar
SUMMARY:Transcript of Lesson 2: How to Turn Features into Highly Desirable Benefits
DTSTART;TZID=America/Los_Angeles:20260422T190000
DTEND;TZID=America/Los_Angeles:20260422T200000
LOCATION:https://www.learndesk.us/class/5115173721341952/lesson/938263a9afc7dd98ccde46196219a5d5?ref=outlook-calendar
DESCRIPTION: https://www.learndesk.us/class/5115173721341952/lesson/938263a9afc7dd98ccde46196219a5d5?ref=outlook-calendar
STATUS:CONFIRMED
SEQUENCE:3
BEGIN:VALARM
TRIGGER:-PT10M
DESCRIPTION:Class Reminder
ACTION:DISPLAY
END:VALARM
END:VEVENT
END:VCALENDAR