BEGIN:VCALENDAR
VERSION:2.0
CALSCALE:GREGORIAN
BEGIN:VEVENT
URL:https://www.learndesk.us/class/5115173721341952/lesson/7d7dd6b9abb88971d8b41e308f851a22?ref=outlook-calendar
SUMMARY:Worksheet 4: Call to Action (rtf)
DTSTART;TZID=America/Los_Angeles:20260422T190000
DTEND;TZID=America/Los_Angeles:20260422T200000
LOCATION:https://www.learndesk.us/class/5115173721341952/lesson/7d7dd6b9abb88971d8b41e308f851a22?ref=outlook-calendar
DESCRIPTION: https://www.learndesk.us/class/5115173721341952/lesson/7d7dd6b9abb88971d8b41e308f851a22?ref=outlook-calendar
STATUS:CONFIRMED
SEQUENCE:3
BEGIN:VALARM
TRIGGER:-PT10M
DESCRIPTION:Class Reminder
ACTION:DISPLAY
END:VALARM
END:VEVENT
END:VCALENDAR