BEGIN:VCALENDAR
VERSION:2.0
CALSCALE:GREGORIAN
BEGIN:VEVENT
URL:https://www.learndesk.us/class/5115173721341952/lesson/5785f754ee5a1d95868b394ce5a4e07e?ref=outlook-calendar
SUMMARY:Transcript of Finalise Your Copy with the Checklist and Thank You
DTSTART;TZID=America/Los_Angeles:20260422T190000
DTEND;TZID=America/Los_Angeles:20260422T200000
LOCATION:https://www.learndesk.us/class/5115173721341952/lesson/5785f754ee5a1d95868b394ce5a4e07e?ref=outlook-calendar
DESCRIPTION: https://www.learndesk.us/class/5115173721341952/lesson/5785f754ee5a1d95868b394ce5a4e07e?ref=outlook-calendar
STATUS:CONFIRMED
SEQUENCE:3
BEGIN:VALARM
TRIGGER:-PT10M
DESCRIPTION:Class Reminder
ACTION:DISPLAY
END:VALARM
END:VEVENT
END:VCALENDAR