BEGIN:VCALENDAR
VERSION:2.0
CALSCALE:GREGORIAN
BEGIN:VEVENT
URL:https://www.learndesk.us/class/5115173721341952/lesson/023b75c66d8f8367eddfac71379baddf?ref=outlook-calendar
SUMMARY:Butterfly Eco-Homes Sales Copy Example (rtf)
DTSTART;TZID=America/Los_Angeles:20260421T190000
DTEND;TZID=America/Los_Angeles:20260421T200000
LOCATION:https://www.learndesk.us/class/5115173721341952/lesson/023b75c66d8f8367eddfac71379baddf?ref=outlook-calendar
DESCRIPTION: https://www.learndesk.us/class/5115173721341952/lesson/023b75c66d8f8367eddfac71379baddf?ref=outlook-calendar
STATUS:CONFIRMED
SEQUENCE:3
BEGIN:VALARM
TRIGGER:-PT10M
DESCRIPTION:Class Reminder
ACTION:DISPLAY
END:VALARM
END:VEVENT
END:VCALENDAR