BEGIN:VCALENDAR
VERSION:2.0
CALSCALE:GREGORIAN
BEGIN:VEVENT
URL:https://www.learndesk.us/class/5115173721341952/simple-copywriting-secrets-how-to-write-killer-sales-copy?ref=outlook-calendar
SUMMARY:Simple Copywriting Secrets: How to Write Killer Sales Copy
DTSTART;TZID=America/Los_Angeles:20260422T190000
DTEND;TZID=America/Los_Angeles:20260422T200000
LOCATION:https://www.learndesk.us/class/5115173721341952/simple-copywriting-secrets-how-to-write-killer-sales-copy?ref=outlook-calendar
DESCRIPTION: 
Learn to create outstanding sales copy in less than an hour.
In just 43 minutes, to be precise. And that leads us to the very first simple secret about copywriting that I want to share with you:
You don't have to try to learn everything about copywriting to be able to start writing striking copy right away.
There are, of course, plenty of great copywriting courses out there that are very thorough in nature, and you should definitely take them if you have a lot of time in your hands and you really want to dig deeper into what copywriting actually is and how it works.
But what if you don’t have that much time and you really want to get started now? What if you want to know the simplest techniques?
That’s why I’m sharing with you a very focused approach to the four vital ingredients of copywriting, which practically every copywriting course will touch upon.
So yes, in just 43 minutes, this copywriting course walks you through the four key elements of writing powerful sales copy,...

https://www.learndesk.us/class/5115173721341952/simple-copywriting-secrets-how-to-write-killer-sales-copy?ref=outlook-calendar
STATUS:CONFIRMED
SEQUENCE:3
BEGIN:VALARM
TRIGGER:-PT10M
DESCRIPTION:Class Reminder
ACTION:DISPLAY
END:VALARM
END:VEVENT
END:VCALENDAR