BEGIN:VCALENDAR
VERSION:2.0
CALSCALE:GREGORIAN
BEGIN:VEVENT
URL:https://www.learndesk.us/class/5103756834242560/lesson/fbf26e5fbdf421d65f1acefa850e6913?ref=outlook-calendar
SUMMARY:[MP3] People By Building Them Up 4.1
DTSTART;TZID=America/Los_Angeles:20260420T190000
DTEND;TZID=America/Los_Angeles:20260420T200000
LOCATION:https://www.learndesk.us/class/5103756834242560/lesson/fbf26e5fbdf421d65f1acefa850e6913?ref=outlook-calendar
DESCRIPTION: https://www.learndesk.us/class/5103756834242560/lesson/fbf26e5fbdf421d65f1acefa850e6913?ref=outlook-calendar
STATUS:CONFIRMED
SEQUENCE:3
BEGIN:VALARM
TRIGGER:-PT10M
DESCRIPTION:Class Reminder
ACTION:DISPLAY
END:VALARM
END:VEVENT
END:VCALENDAR