BEGIN:VCALENDAR
VERSION:2.0
CALSCALE:GREGORIAN
BEGIN:VEVENT
URL:https://www.learndesk.us/class/5103756834242560/lesson/1b8b7d2d410e2fb414cd7cbd5f5b78f8?ref=outlook-calendar
SUMMARY:[MP3] Integrating The 6 Eustress Skills
DTSTART;TZID=America/Los_Angeles:20260420T190000
DTEND;TZID=America/Los_Angeles:20260420T200000
LOCATION:https://www.learndesk.us/class/5103756834242560/lesson/1b8b7d2d410e2fb414cd7cbd5f5b78f8?ref=outlook-calendar
DESCRIPTION: https://www.learndesk.us/class/5103756834242560/lesson/1b8b7d2d410e2fb414cd7cbd5f5b78f8?ref=outlook-calendar
STATUS:CONFIRMED
SEQUENCE:3
BEGIN:VALARM
TRIGGER:-PT10M
DESCRIPTION:Class Reminder
ACTION:DISPLAY
END:VALARM
END:VEVENT
END:VCALENDAR