BEGIN:VCALENDAR
VERSION:2.0
CALSCALE:GREGORIAN
BEGIN:VEVENT
URL:https://www.learndesk.us/class/5094261190033408/lesson/9247668c6f5a9f9e318733c981eaa1fa?ref=outlook-calendar
SUMMARY:Engaging In Conversation At Just the Right Time
DTSTART;TZID=America/Los_Angeles:20260426T190000
DTEND;TZID=America/Los_Angeles:20260426T200000
LOCATION:https://www.learndesk.us/class/5094261190033408/lesson/9247668c6f5a9f9e318733c981eaa1fa?ref=outlook-calendar
DESCRIPTION: https://www.learndesk.us/class/5094261190033408/lesson/9247668c6f5a9f9e318733c981eaa1fa?ref=outlook-calendar
STATUS:CONFIRMED
SEQUENCE:3
BEGIN:VALARM
TRIGGER:-PT10M
DESCRIPTION:Class Reminder
ACTION:DISPLAY
END:VALARM
END:VEVENT
END:VCALENDAR