BEGIN:VCALENDAR
VERSION:2.0
CALSCALE:GREGORIAN
BEGIN:VEVENT
URL:https://www.learndesk.us/class/5066036506263552/lesson/fa1ba8c0ebe0a2afe586df7666fb7740?ref=outlook-calendar
SUMMARY:Appendix C - YAML Introduction
DTSTART;TZID=America/Los_Angeles:20260422T190000
DTEND;TZID=America/Los_Angeles:20260422T200000
LOCATION:https://www.learndesk.us/class/5066036506263552/lesson/fa1ba8c0ebe0a2afe586df7666fb7740?ref=outlook-calendar
DESCRIPTION: Conclusion and Appendix: Appendix C - YAML Introduction

https://www.learndesk.us/class/5066036506263552/lesson/fa1ba8c0ebe0a2afe586df7666fb7740?ref=outlook-calendar
STATUS:CONFIRMED
SEQUENCE:3
BEGIN:VALARM
TRIGGER:-PT10M
DESCRIPTION:Class Reminder
ACTION:DISPLAY
END:VALARM
END:VEVENT
END:VCALENDAR