BEGIN:VCALENDAR
VERSION:2.0
CALSCALE:GREGORIAN
BEGIN:VEVENT
URL:https://www.learndesk.us/class/5066036506263552/lesson/f1ebd9f43f3eda423297ce505b49788c?ref=outlook-calendar
SUMMARY:Storage, Templates and Catalog
DTSTART;TZID=America/Los_Angeles:20260422T190000
DTEND;TZID=America/Los_Angeles:20260422T200000
LOCATION:https://www.learndesk.us/class/5066036506263552/lesson/f1ebd9f43f3eda423297ce505b49788c?ref=outlook-calendar
DESCRIPTION: 
In this section, we look into storage classes and templates.

Storage
Demo – Storage
Example Voting Application Introduction
Demo - Deploy Example Voting Application on Openshift
Templates and Catalog
Demo - Create a custom Catalog



https://www.learndesk.us/class/5066036506263552/lesson/f1ebd9f43f3eda423297ce505b49788c?ref=outlook-calendar
STATUS:CONFIRMED
SEQUENCE:3
BEGIN:VALARM
TRIGGER:-PT10M
DESCRIPTION:Class Reminder
ACTION:DISPLAY
END:VALARM
END:VEVENT
END:VCALENDAR