BEGIN:VCALENDAR
VERSION:2.0
CALSCALE:GREGORIAN
BEGIN:VEVENT
URL:https://www.learndesk.us/class/5066036506263552/lesson/eb686ce6d9e6eb265f1968a134cc7ef4?ref=outlook-calendar
SUMMARY:Appendix A - Source Code Management for Beginners
DTSTART;TZID=America/Los_Angeles:20260423T190000
DTEND;TZID=America/Los_Angeles:20260423T200000
LOCATION:https://www.learndesk.us/class/5066036506263552/lesson/eb686ce6d9e6eb265f1968a134cc7ef4?ref=outlook-calendar
DESCRIPTION: Conclusion and Appendix: Appendix A - Source Code Management for Beginners

https://www.learndesk.us/class/5066036506263552/lesson/eb686ce6d9e6eb265f1968a134cc7ef4?ref=outlook-calendar
STATUS:CONFIRMED
SEQUENCE:3
BEGIN:VALARM
TRIGGER:-PT10M
DESCRIPTION:Class Reminder
ACTION:DISPLAY
END:VALARM
END:VEVENT
END:VCALENDAR