BEGIN:VCALENDAR
VERSION:2.0
CALSCALE:GREGORIAN
BEGIN:VEVENT
URL:https://www.learndesk.us/class/5066036506263552/lesson/d8fb5bbcfbe4eb57493b2c01dd671c77?ref=outlook-calendar
SUMMARY:Demo - Deploy an Application
DTSTART;TZID=America/Los_Angeles:20260422T190000
DTEND;TZID=America/Los_Angeles:20260422T200000
LOCATION:https://www.learndesk.us/class/5066036506263552/lesson/d8fb5bbcfbe4eb57493b2c01dd671c77?ref=outlook-calendar
DESCRIPTION: Concepts - Builds and Deployments: Demo - Deploy an Application

https://www.learndesk.us/class/5066036506263552/lesson/d8fb5bbcfbe4eb57493b2c01dd671c77?ref=outlook-calendar
STATUS:CONFIRMED
SEQUENCE:3
BEGIN:VALARM
TRIGGER:-PT10M
DESCRIPTION:Class Reminder
ACTION:DISPLAY
END:VALARM
END:VEVENT
END:VCALENDAR