BEGIN:VCALENDAR
VERSION:2.0
CALSCALE:GREGORIAN
BEGIN:VEVENT
URL:https://www.learndesk.us/class/5066036506263552/lesson/cfcc945f2e6613abab118b9732d49874?ref=outlook-calendar
SUMMARY:Introduction
DTSTART;TZID=America/Los_Angeles:20260422T190000
DTEND;TZID=America/Los_Angeles:20260422T200000
LOCATION:https://www.learndesk.us/class/5066036506263552/lesson/cfcc945f2e6613abab118b9732d49874?ref=outlook-calendar
DESCRIPTION: Introduction: Introduction

https://www.learndesk.us/class/5066036506263552/lesson/cfcc945f2e6613abab118b9732d49874?ref=outlook-calendar
STATUS:CONFIRMED
SEQUENCE:3
BEGIN:VALARM
TRIGGER:-PT10M
DESCRIPTION:Class Reminder
ACTION:DISPLAY
END:VALARM
END:VEVENT
END:VCALENDAR