BEGIN:VCALENDAR
VERSION:2.0
CALSCALE:GREGORIAN
BEGIN:VEVENT
URL:https://www.learndesk.us/class/5066036506263552/lesson/c45690c91841a3ffaf676e3476849689?ref=outlook-calendar
SUMMARY:Build Triggers
DTSTART;TZID=America/Los_Angeles:20260422T190000
DTEND;TZID=America/Los_Angeles:20260422T200000
LOCATION:https://www.learndesk.us/class/5066036506263552/lesson/c45690c91841a3ffaf676e3476849689?ref=outlook-calendar
DESCRIPTION: Concepts - Builds and Deployments: Build Triggers

https://www.learndesk.us/class/5066036506263552/lesson/c45690c91841a3ffaf676e3476849689?ref=outlook-calendar
STATUS:CONFIRMED
SEQUENCE:3
BEGIN:VALARM
TRIGGER:-PT10M
DESCRIPTION:Class Reminder
ACTION:DISPLAY
END:VALARM
END:VEVENT
END:VCALENDAR