BEGIN:VCALENDAR
VERSION:2.0
CALSCALE:GREGORIAN
BEGIN:VEVENT
URL:https://www.learndesk.us/class/5066036506263552/lesson/c330a5aba727fa3b75a0228041a68097?ref=outlook-calendar
SUMMARY:Conclusion and Appendix
DTSTART;TZID=America/Los_Angeles:20260422T190000
DTEND;TZID=America/Los_Angeles:20260422T200000
LOCATION:https://www.learndesk.us/class/5066036506263552/lesson/c330a5aba727fa3b75a0228041a68097?ref=outlook-calendar
DESCRIPTION: 
In this section, we quickly glance through Configure integration between OpenShift and GitLab SCM and deploy a sample Multi-services application on OpenShift.

Conclusion
Appendix A - Source Code Management for Beginners
Appendix A - Demo - GitLab – Setup
Appendix B - CI/CD for Beginners
Appendix C - YAML Introduction
Appendix D - Setup VirtualBox



https://www.learndesk.us/class/5066036506263552/lesson/c330a5aba727fa3b75a0228041a68097?ref=outlook-calendar
STATUS:CONFIRMED
SEQUENCE:3
BEGIN:VALARM
TRIGGER:-PT10M
DESCRIPTION:Class Reminder
ACTION:DISPLAY
END:VALARM
END:VEVENT
END:VCALENDAR