BEGIN:VCALENDAR
VERSION:2.0
CALSCALE:GREGORIAN
BEGIN:VEVENT
URL:https://www.learndesk.us/class/5066036506263552/lesson/ae9ab4bd1bebff13c41012e31d960e9c?ref=outlook-calendar
SUMMARY:Openshift Concepts - Projects and Users
DTSTART;TZID=America/Los_Angeles:20260422T190000
DTEND;TZID=America/Los_Angeles:20260422T200000
LOCATION:https://www.learndesk.us/class/5066036506263552/lesson/ae9ab4bd1bebff13c41012e31d960e9c?ref=outlook-calendar
DESCRIPTION: 
In this section, deploy OpenShift with Minishift and understand projects and users.

Projects and Users
Demo - Projects and Users



https://www.learndesk.us/class/5066036506263552/lesson/ae9ab4bd1bebff13c41012e31d960e9c?ref=outlook-calendar
STATUS:CONFIRMED
SEQUENCE:3
BEGIN:VALARM
TRIGGER:-PT10M
DESCRIPTION:Class Reminder
ACTION:DISPLAY
END:VALARM
END:VEVENT
END:VCALENDAR