BEGIN:VCALENDAR
VERSION:2.0
CALSCALE:GREGORIAN
BEGIN:VEVENT
URL:https://www.learndesk.us/class/5066036506263552/lesson/a71a333f7abea25a74e5dbe6d4fe23a9?ref=outlook-calendar
SUMMARY:Templates and Catalog
DTSTART;TZID=America/Los_Angeles:20260422T190000
DTEND;TZID=America/Los_Angeles:20260422T200000
LOCATION:https://www.learndesk.us/class/5066036506263552/lesson/a71a333f7abea25a74e5dbe6d4fe23a9?ref=outlook-calendar
DESCRIPTION: Storage, Templates and Catalog: Templates and Catalog

https://www.learndesk.us/class/5066036506263552/lesson/a71a333f7abea25a74e5dbe6d4fe23a9?ref=outlook-calendar
STATUS:CONFIRMED
SEQUENCE:3
BEGIN:VALARM
TRIGGER:-PT10M
DESCRIPTION:Class Reminder
ACTION:DISPLAY
END:VALARM
END:VEVENT
END:VCALENDAR