BEGIN:VCALENDAR
VERSION:2.0
CALSCALE:GREGORIAN
BEGIN:VEVENT
URL:https://www.learndesk.us/class/5066036506263552/lesson/9e431bd164e2aae88056c44ddf9d2600?ref=outlook-calendar
SUMMARY:Getting Started with Openshift
DTSTART;TZID=America/Los_Angeles:20260422T190000
DTEND;TZID=America/Los_Angeles:20260422T200000
LOCATION:https://www.learndesk.us/class/5066036506263552/lesson/9e431bd164e2aae88056c44ddf9d2600?ref=outlook-calendar
DESCRIPTION: 
In this section, we look into architecture and setup for OpenShift.

Openshift - Architecture Overview
Openshift – Setup
Demo - OpenShift Setup with Minishift
Management - Web, CLI and Rest API
Demo - Openshift Management



https://www.learndesk.us/class/5066036506263552/lesson/9e431bd164e2aae88056c44ddf9d2600?ref=outlook-calendar
STATUS:CONFIRMED
SEQUENCE:3
BEGIN:VALARM
TRIGGER:-PT10M
DESCRIPTION:Class Reminder
ACTION:DISPLAY
END:VALARM
END:VEVENT
END:VCALENDAR