BEGIN:VCALENDAR
VERSION:2.0
CALSCALE:GREGORIAN
BEGIN:VEVENT
URL:https://www.learndesk.us/class/5066036506263552/lesson/8cf185f9b48c8af676c662e42341ab56?ref=outlook-calendar
SUMMARY:Example Voting Application Introduction
DTSTART;TZID=America/Los_Angeles:20260422T190000
DTEND;TZID=America/Los_Angeles:20260422T200000
LOCATION:https://www.learndesk.us/class/5066036506263552/lesson/8cf185f9b48c8af676c662e42341ab56?ref=outlook-calendar
DESCRIPTION: Storage, Templates and Catalog: Example Voting Application Introduction

https://www.learndesk.us/class/5066036506263552/lesson/8cf185f9b48c8af676c662e42341ab56?ref=outlook-calendar
STATUS:CONFIRMED
SEQUENCE:3
BEGIN:VALARM
TRIGGER:-PT10M
DESCRIPTION:Class Reminder
ACTION:DISPLAY
END:VALARM
END:VEVENT
END:VCALENDAR