BEGIN:VCALENDAR
VERSION:2.0
CALSCALE:GREGORIAN
BEGIN:VEVENT
URL:https://www.learndesk.us/class/5066036506263552/lesson/8c7ffcda5e4f2a152f623ad3de361af8?ref=outlook-calendar
SUMMARY:Demo - Deploy Example Voting Application on Openshift
DTSTART;TZID=America/Los_Angeles:20260422T190000
DTEND;TZID=America/Los_Angeles:20260422T200000
LOCATION:https://www.learndesk.us/class/5066036506263552/lesson/8c7ffcda5e4f2a152f623ad3de361af8?ref=outlook-calendar
DESCRIPTION: Storage, Templates and Catalog: Demo - Deploy Example Voting Application on Openshift

https://www.learndesk.us/class/5066036506263552/lesson/8c7ffcda5e4f2a152f623ad3de361af8?ref=outlook-calendar
STATUS:CONFIRMED
SEQUENCE:3
BEGIN:VALARM
TRIGGER:-PT10M
DESCRIPTION:Class Reminder
ACTION:DISPLAY
END:VALARM
END:VEVENT
END:VCALENDAR