BEGIN:VCALENDAR
VERSION:2.0
CALSCALE:GREGORIAN
BEGIN:VEVENT
URL:https://www.learndesk.us/class/5066036506263552/lesson/6c052679623fb6e4b3eda47d3297c110?ref=outlook-calendar
SUMMARY:Demo - OpenShift Setup with Minishift
DTSTART;TZID=America/Los_Angeles:20260421T190000
DTEND;TZID=America/Los_Angeles:20260421T200000
LOCATION:https://www.learndesk.us/class/5066036506263552/lesson/6c052679623fb6e4b3eda47d3297c110?ref=outlook-calendar
DESCRIPTION: Getting Started with Openshift: Demo - OpenShift Setup with Minishift

https://www.learndesk.us/class/5066036506263552/lesson/6c052679623fb6e4b3eda47d3297c110?ref=outlook-calendar
STATUS:CONFIRMED
SEQUENCE:3
BEGIN:VALARM
TRIGGER:-PT10M
DESCRIPTION:Class Reminder
ACTION:DISPLAY
END:VALARM
END:VEVENT
END:VCALENDAR