BEGIN:VCALENDAR
VERSION:2.0
CALSCALE:GREGORIAN
BEGIN:VEVENT
URL:https://www.learndesk.us/class/5066036506263552/lesson/675dca773df37c60a7e6b28392a179f9?ref=outlook-calendar
SUMMARY:Pre-Requisite - Docker and Kubernetes
DTSTART;TZID=America/Los_Angeles:20260422T190000
DTEND;TZID=America/Los_Angeles:20260422T200000
LOCATION:https://www.learndesk.us/class/5066036506263552/lesson/675dca773df37c60a7e6b28392a179f9?ref=outlook-calendar
DESCRIPTION: 
In this section, we look into pre-requisite to Docker and kubernetes.

Pre-Requisite - Docker Overview
Pre-Requisite - Kubernetes Overview



https://www.learndesk.us/class/5066036506263552/lesson/675dca773df37c60a7e6b28392a179f9?ref=outlook-calendar
STATUS:CONFIRMED
SEQUENCE:3
BEGIN:VALARM
TRIGGER:-PT10M
DESCRIPTION:Class Reminder
ACTION:DISPLAY
END:VALARM
END:VEVENT
END:VCALENDAR