BEGIN:VCALENDAR
VERSION:2.0
CALSCALE:GREGORIAN
BEGIN:VEVENT
URL:https://www.learndesk.us/class/5066036506263552/lesson/5a0bf099c64efb01983a7880388862c5?ref=outlook-calendar
SUMMARY:Demo – Scaling
DTSTART;TZID=America/Los_Angeles:20260422T190000
DTEND;TZID=America/Los_Angeles:20260422T200000
LOCATION:https://www.learndesk.us/class/5066036506263552/lesson/5a0bf099c64efb01983a7880388862c5?ref=outlook-calendar
DESCRIPTION: Networks, Services, Routes and Scaling: Demo – Scaling

https://www.learndesk.us/class/5066036506263552/lesson/5a0bf099c64efb01983a7880388862c5?ref=outlook-calendar
STATUS:CONFIRMED
SEQUENCE:3
BEGIN:VALARM
TRIGGER:-PT10M
DESCRIPTION:Class Reminder
ACTION:DISPLAY
END:VALARM
END:VEVENT
END:VCALENDAR