BEGIN:VCALENDAR
VERSION:2.0
CALSCALE:GREGORIAN
BEGIN:VEVENT
URL:https://www.learndesk.us/class/5066036506263552/lesson/44186014f7a538e5628c5c1cde1f0776?ref=outlook-calendar
SUMMARY:Concepts - Builds and Deployments
DTSTART;TZID=America/Los_Angeles:20260422T190000
DTEND;TZID=America/Los_Angeles:20260422T200000
LOCATION:https://www.learndesk.us/class/5066036506263552/lesson/44186014f7a538e5628c5c1cde1f0776?ref=outlook-calendar
DESCRIPTION: 
In this section, we understand Builds, Build Triggers, Image streams and deployments.

Builds and Deployments
Demo - Deploy an Application
Builds
Demo – Builds
Build Triggers
Demo - Build Triggers
Deployments
Demo – Deployments



https://www.learndesk.us/class/5066036506263552/lesson/44186014f7a538e5628c5c1cde1f0776?ref=outlook-calendar
STATUS:CONFIRMED
SEQUENCE:3
BEGIN:VALARM
TRIGGER:-PT10M
DESCRIPTION:Class Reminder
ACTION:DISPLAY
END:VALARM
END:VEVENT
END:VCALENDAR