BEGIN:VCALENDAR
VERSION:2.0
CALSCALE:GREGORIAN
BEGIN:VEVENT
URL:https://www.learndesk.us/class/5066036506263552/lesson/307961240c4cd04996b0bf787d069a3f?ref=outlook-calendar
SUMMARY:Storage
DTSTART;TZID=America/Los_Angeles:20260422T190000
DTEND;TZID=America/Los_Angeles:20260422T200000
LOCATION:https://www.learndesk.us/class/5066036506263552/lesson/307961240c4cd04996b0bf787d069a3f?ref=outlook-calendar
DESCRIPTION: Storage, Templates and Catalog: Storage

https://www.learndesk.us/class/5066036506263552/lesson/307961240c4cd04996b0bf787d069a3f?ref=outlook-calendar
STATUS:CONFIRMED
SEQUENCE:3
BEGIN:VALARM
TRIGGER:-PT10M
DESCRIPTION:Class Reminder
ACTION:DISPLAY
END:VALARM
END:VEVENT
END:VCALENDAR