BEGIN:VCALENDAR
VERSION:2.0
CALSCALE:GREGORIAN
BEGIN:VEVENT
URL:https://www.learndesk.us/class/5066036506263552/lesson/30150b600be5205a853d5140179566fe?ref=outlook-calendar
SUMMARY:Networks, Services, Routes and Scaling
DTSTART;TZID=America/Los_Angeles:20260422T190000
DTEND;TZID=America/Los_Angeles:20260422T200000
LOCATION:https://www.learndesk.us/class/5066036506263552/lesson/30150b600be5205a853d5140179566fe?ref=outlook-calendar
DESCRIPTION: 
In this section, we understand network, services and routes.

Networking Overview
Services and Routes
Demo - Services and Routes
Scaling
Demo – Scaling



https://www.learndesk.us/class/5066036506263552/lesson/30150b600be5205a853d5140179566fe?ref=outlook-calendar
STATUS:CONFIRMED
SEQUENCE:3
BEGIN:VALARM
TRIGGER:-PT10M
DESCRIPTION:Class Reminder
ACTION:DISPLAY
END:VALARM
END:VEVENT
END:VCALENDAR