BEGIN:VCALENDAR
VERSION:2.0
CALSCALE:GREGORIAN
BEGIN:VEVENT
URL:https://www.learndesk.us/class/5066036506263552/lesson/20f8f57045903600e33c9f4b5c9be669?ref=outlook-calendar
SUMMARY:Conclusion
DTSTART;TZID=America/Los_Angeles:20260422T190000
DTEND;TZID=America/Los_Angeles:20260422T200000
LOCATION:https://www.learndesk.us/class/5066036506263552/lesson/20f8f57045903600e33c9f4b5c9be669?ref=outlook-calendar
DESCRIPTION: Conclusion and Appendix: Conclusion

https://www.learndesk.us/class/5066036506263552/lesson/20f8f57045903600e33c9f4b5c9be669?ref=outlook-calendar
STATUS:CONFIRMED
SEQUENCE:3
BEGIN:VALARM
TRIGGER:-PT10M
DESCRIPTION:Class Reminder
ACTION:DISPLAY
END:VALARM
END:VEVENT
END:VCALENDAR