BEGIN:VCALENDAR
VERSION:2.0
CALSCALE:GREGORIAN
BEGIN:VEVENT
URL:https://www.learndesk.us/class/5066036506263552/openshift-for-absolute-beginners-hands-on?ref=outlook-calendar
SUMMARY:OpenShift for Absolute Beginners: Hands-on
DTSTART;TZID=America/Los_Angeles:20260422T190000
DTEND;TZID=America/Los_Angeles:20260422T200000
LOCATION:https://www.learndesk.us/class/5066036506263552/openshift-for-absolute-beginners-hands-on?ref=outlook-calendar
DESCRIPTION: Learn the fundamentals and basic concepts of OpenShift that you will need to build a simple OpenShift cluster and get started with deploying and managing the application. A much-required skill for anyone in DevOps and Cloud Learning the fundamentals of OpenShift puts the knowledge of a powerful PaaS offering at your fingertips. OpenShift is the next-generation application hosting platform by Red Hat. Build a strong foundation in OpenShift and container orchestration with this tutorial for beginners. You will be developing OpenShift Configuration Files for different use cases right in your browser.
The coding exercises will validate your commands and configuration files and ensure you have written them correctly. And finally, we have assignments to put your skills to test. You will be given the challenge to solve using the skills you gained during this course. This is a great way to gain project experience and work with the other students in the community to develop an OpenShift...

https://www.learndesk.us/class/5066036506263552/openshift-for-absolute-beginners-hands-on?ref=outlook-calendar
STATUS:CONFIRMED
SEQUENCE:3
BEGIN:VALARM
TRIGGER:-PT10M
DESCRIPTION:Class Reminder
ACTION:DISPLAY
END:VALARM
END:VEVENT
END:VCALENDAR