BEGIN:VCALENDAR
VERSION:2.0
CALSCALE:GREGORIAN
BEGIN:VEVENT
URL:https://www.learndesk.us/class/5064636850241536/lesson/9d3075b7729bcebdb8698b922492e189?ref=outlook-calendar
SUMMARY:Ribbon Menu and Quick Access Toolbar
DTSTART;TZID=America/Los_Angeles:20260422T190000
DTEND;TZID=America/Los_Angeles:20260422T200000
LOCATION:https://www.learndesk.us/class/5064636850241536/lesson/9d3075b7729bcebdb8698b922492e189?ref=outlook-calendar
DESCRIPTION: https://www.learndesk.us/class/5064636850241536/lesson/9d3075b7729bcebdb8698b922492e189?ref=outlook-calendar
STATUS:CONFIRMED
SEQUENCE:3
BEGIN:VALARM
TRIGGER:-PT10M
DESCRIPTION:Class Reminder
ACTION:DISPLAY
END:VALARM
END:VEVENT
END:VCALENDAR