BEGIN:VCALENDAR
VERSION:2.0
CALSCALE:GREGORIAN
BEGIN:VEVENT
URL:https://www.learndesk.us/class/5064636850241536/lesson/9afb0e9afbc202ace4a84348d6aa5577?ref=outlook-calendar
SUMMARY:Header or Footer Content and Size
DTSTART;TZID=America/Los_Angeles:20260420T190000
DTEND;TZID=America/Los_Angeles:20260420T200000
LOCATION:https://www.learndesk.us/class/5064636850241536/lesson/9afb0e9afbc202ace4a84348d6aa5577?ref=outlook-calendar
DESCRIPTION: https://www.learndesk.us/class/5064636850241536/lesson/9afb0e9afbc202ace4a84348d6aa5577?ref=outlook-calendar
STATUS:CONFIRMED
SEQUENCE:3
BEGIN:VALARM
TRIGGER:-PT10M
DESCRIPTION:Class Reminder
ACTION:DISPLAY
END:VALARM
END:VEVENT
END:VCALENDAR