BEGIN:VCALENDAR
VERSION:2.0
CALSCALE:GREGORIAN
BEGIN:VEVENT
URL:https://www.learndesk.us/class/5064636850241536/lesson/5ed3b3fdc7e7f27af2c56ed7609aec89?ref=outlook-calendar
SUMMARY:Advanced Conditional Rules
DTSTART;TZID=America/Los_Angeles:20260420T190000
DTEND;TZID=America/Los_Angeles:20260420T200000
LOCATION:https://www.learndesk.us/class/5064636850241536/lesson/5ed3b3fdc7e7f27af2c56ed7609aec89?ref=outlook-calendar
DESCRIPTION: https://www.learndesk.us/class/5064636850241536/lesson/5ed3b3fdc7e7f27af2c56ed7609aec89?ref=outlook-calendar
STATUS:CONFIRMED
SEQUENCE:3
BEGIN:VALARM
TRIGGER:-PT10M
DESCRIPTION:Class Reminder
ACTION:DISPLAY
END:VALARM
END:VEVENT
END:VCALENDAR