BEGIN:VCALENDAR
VERSION:2.0
CALSCALE:GREGORIAN
BEGIN:VEVENT
URL:https://www.learndesk.us/class/5064636850241536/lesson/599dc09c3df8d124820b5233dc56da9e?ref=outlook-calendar
SUMMARY:Adding a Header or Footer
DTSTART;TZID=America/Los_Angeles:20260420T190000
DTEND;TZID=America/Los_Angeles:20260420T200000
LOCATION:https://www.learndesk.us/class/5064636850241536/lesson/599dc09c3df8d124820b5233dc56da9e?ref=outlook-calendar
DESCRIPTION: https://www.learndesk.us/class/5064636850241536/lesson/599dc09c3df8d124820b5233dc56da9e?ref=outlook-calendar
STATUS:CONFIRMED
SEQUENCE:3
BEGIN:VALARM
TRIGGER:-PT10M
DESCRIPTION:Class Reminder
ACTION:DISPLAY
END:VALARM
END:VEVENT
END:VCALENDAR