BEGIN:VCALENDAR
VERSION:2.0
CALSCALE:GREGORIAN
BEGIN:VEVENT
URL:https://www.learndesk.us/class/5064636850241536/lesson/2325bfb5677dbad6dd473a0f87d3303f?ref=outlook-calendar
SUMMARY:Conventions and Information
DTSTART;TZID=America/Los_Angeles:20260420T190000
DTEND;TZID=America/Los_Angeles:20260420T200000
LOCATION:https://www.learndesk.us/class/5064636850241536/lesson/2325bfb5677dbad6dd473a0f87d3303f?ref=outlook-calendar
DESCRIPTION: https://www.learndesk.us/class/5064636850241536/lesson/2325bfb5677dbad6dd473a0f87d3303f?ref=outlook-calendar
STATUS:CONFIRMED
SEQUENCE:3
BEGIN:VALARM
TRIGGER:-PT10M
DESCRIPTION:Class Reminder
ACTION:DISPLAY
END:VALARM
END:VEVENT
END:VCALENDAR