BEGIN:VCALENDAR
VERSION:2.0
CALSCALE:GREGORIAN
BEGIN:VEVENT
URL:https://www.learndesk.us/class/5064636850241536/microsoft-excel-from-basic-to-advanced?ref=outlook-calendar
SUMMARY:Microsoft Excel from Basic to Advanced
DTSTART;TZID=America/Los_Angeles:20260420T190000
DTEND;TZID=America/Los_Angeles:20260420T200000
LOCATION:https://www.learndesk.us/class/5064636850241536/microsoft-excel-from-basic-to-advanced?ref=outlook-calendar
DESCRIPTION: 
In this online course, you will learn Microsoft Excel from the zero levels to the expert level, in the shortest time possible, through an easy learning process. I designed the curriculum very carefully to maximize its effectiveness. After learning from this course, in sha Allah, you will have real and applicable competencies that can be utilized to skyrocket your business or your career.
About the author
Hi, my name is Widhi Muttaqien. I am an entrepreneur, who also an academic lecturer in the information system and computer graphics fields. By the time I record this video, I have more than 50,000 students globally around the world. In terms of formal education, I have a bachelor's degree in IT with a concentration in software development. I also have a master's degree in business management as well as information systems. For more than 20 years, I have been using Microsoft Excel for a variety of needs, be it for business or for academic purposes. I used Excel for bookkeeping or...

https://www.learndesk.us/class/5064636850241536/microsoft-excel-from-basic-to-advanced?ref=outlook-calendar
STATUS:CONFIRMED
SEQUENCE:3
BEGIN:VALARM
TRIGGER:-PT10M
DESCRIPTION:Class Reminder
ACTION:DISPLAY
END:VALARM
END:VEVENT
END:VCALENDAR