BEGIN:VCALENDAR
VERSION:2.0
CALSCALE:GREGORIAN
BEGIN:VEVENT
URL:https://www.learndesk.us/class/5062331950170112/lesson/e662b32f38e538576704a721234149c0?ref=outlook-calendar
SUMMARY:Speed
DTSTART;TZID=America/Los_Angeles:20260422T190000
DTEND;TZID=America/Los_Angeles:20260422T200000
LOCATION:https://www.learndesk.us/class/5062331950170112/lesson/e662b32f38e538576704a721234149c0?ref=outlook-calendar
DESCRIPTION: https://www.learndesk.us/class/5062331950170112/lesson/e662b32f38e538576704a721234149c0?ref=outlook-calendar
STATUS:CONFIRMED
SEQUENCE:3
BEGIN:VALARM
TRIGGER:-PT10M
DESCRIPTION:Class Reminder
ACTION:DISPLAY
END:VALARM
END:VEVENT
END:VCALENDAR