BEGIN:VCALENDAR
VERSION:2.0
CALSCALE:GREGORIAN
BEGIN:VEVENT
URL:https://www.learndesk.us/class/5062331950170112/lesson/c10bece290a645865ebcdf6d0e155021?ref=outlook-calendar
SUMMARY:The name
DTSTART;TZID=America/Los_Angeles:20260420T190000
DTEND;TZID=America/Los_Angeles:20260420T200000
LOCATION:https://www.learndesk.us/class/5062331950170112/lesson/c10bece290a645865ebcdf6d0e155021?ref=outlook-calendar
DESCRIPTION: https://www.learndesk.us/class/5062331950170112/lesson/c10bece290a645865ebcdf6d0e155021?ref=outlook-calendar
STATUS:CONFIRMED
SEQUENCE:3
BEGIN:VALARM
TRIGGER:-PT10M
DESCRIPTION:Class Reminder
ACTION:DISPLAY
END:VALARM
END:VEVENT
END:VCALENDAR